BEGIN:VCALENDAR
VERSION:2.0
PRODID:-//Jan Delay//NONSGML Jan Delay//EN
METHOD:PUBLISH
BEGIN:VEVENT
UID:20260421T212629Z-2061317299-www.jan-delay.de
URL:https://www.jan-delay.de/dates/jan-delay-dates-05072022-de-frankfur-8--99-.html
DTSTAMP:20260421T212629Z
DTSTART:20220705T180000Z
DTEND:20220705T180000Z
SUMMARY:JAN DELAY | Dates | 05.07.2022 (DE) Frankfurt (verlegt vom 12.03.)\, Zoom
DESCRIPTION:For tickets and more Jan Delay-dates check https://www.jan-delay.de/dates/
LOCATION:Zoom\, Frankfurt (verlegt vom 12.03.)\, Germany
END:VEVENT
END:VCALENDAR
