BEGIN:VCALENDAR
VERSION:2.0
PRODID:-//Jan Delay//NONSGML Jan Delay//EN
METHOD:PUBLISH
BEGIN:VEVENT
UID:20260421T212608Z-1459643824-www.jan-delay.de
URL:https://www.jan-delay.de/dates/jan-delay-dates-23082022-de-giessen--8--84-.html
DTSTAMP:20260421T212608Z
DTSTART:20220823T180000Z
DTEND:20220823T180000Z
SUMMARY:JAN DELAY | Dates | 23.08.2022 (DE) Gießen\, Gießener Kultursommer
DESCRIPTION:For tickets and more Jan Delay-dates check https://www.jan-delay.de/dates/
LOCATION:Gießener Kultursommer\, Gießen\, Germany
END:VEVENT
END:VCALENDAR
