BEGIN:VCALENDAR
VERSION:2.0
PRODID:-//Jan Delay//NONSGML Jan Delay//EN
METHOD:PUBLISH
BEGIN:VEVENT
UID:20260420T213134Z-738345616-www.jan-delay.de
URL:https://www.jan-delay.de/dates/jan-delay-dates-25072026-at-leoben-h-8--217-.html
DTSTAMP:20260420T213134Z
DTSTART:20260725T180000Z
DTEND:20260725T180000Z
SUMMARY:JAN DELAY | Dates | 25.07.2026 (AT) Leoben\, Hauptplatz Leoben
DESCRIPTION:For tickets and more Jan Delay-dates check https://www.jan-delay.de/dates/
LOCATION:Hauptplatz Leoben\, Leoben\, Austria
END:VEVENT
END:VCALENDAR
