BEGIN:VCALENDAR
VERSION:2.0
PRODID:-//Jan Delay//NONSGML Jan Delay//EN
METHOD:PUBLISH
BEGIN:VEVENT
UID:20260420T213502Z-1889889654-www.jan-delay.de
URL:https://www.jan-delay.de/dates/jan-delay-dates-25062026-ch-st-galle-8--216-.html
DTSTAMP:20260420T213502Z
DTSTART:20260625T180000Z
DTEND:20260625T180000Z
SUMMARY:JAN DELAY | Dates | 25.06.2026 (CH) St. Gallen\, Openair St. Gallen
DESCRIPTION:For tickets and more Jan Delay-dates check https://www.jan-delay.de/dates/
LOCATION:Openair St. Gallen\, St. Gallen\, Switzerland
END:VEVENT
END:VCALENDAR
