BEGIN:VCALENDAR
VERSION:2.0
PRODID:-//Jan Delay//NONSGML Jan Delay//EN
METHOD:PUBLISH
BEGIN:VEVENT
UID:20260418T133532Z-2074661606-www.jan-delay.de
URL:https://www.jan-delay.de/dates/jan-delay-dates-29052025-at-krems-fe-8--180-.html
DTSTAMP:20260418T133532Z
DTSTART:20250529T180000Z
DTEND:20250529T180000Z
SUMMARY:JAN DELAY | Dates | 29.05.2025 (AT) Krems\, FESTIVAL AM STEINER TOR
DESCRIPTION:For tickets and more Jan Delay-dates check https://www.jan-delay.de/dates/
LOCATION:FESTIVAL AM STEINER TOR\, Krems\, Austria
END:VEVENT
END:VCALENDAR
