BEGIN:VCALENDAR
VERSION:2.0
PRODID:-//Jan Delay//NONSGML Jan Delay//EN
METHOD:PUBLISH
BEGIN:VEVENT
UID:20260421T054643Z-863228504-www.jan-delay.de
URL:https://www.jan-delay.de/dates/jan-delay-dates-22072023-de-lauchhei-8--142-.html
DTSTAMP:20260421T054643Z
DTSTART:20230722T180000Z
DTEND:20230722T180000Z
SUMMARY:JAN DELAY | Dates | 22.07.2023 (DE) Lauchheim\, Schloss Kapfenburg
DESCRIPTION:For tickets and more Jan Delay-dates check https://www.jan-delay.de/dates/
LOCATION:Schloss Kapfenburg\, Lauchheim\, Germany
END:VEVENT
END:VCALENDAR
