BEGIN:VCALENDAR
VERSION:2.0
PRODID:-//Jan Delay//NONSGML Jan Delay//EN
METHOD:PUBLISH
BEGIN:VEVENT
UID:20260421T054643Z-1220141411-www.jan-delay.de
URL:https://www.jan-delay.de/dates/jan-delay-dates-21072023-de-rottweil-8--141-.html
DTSTAMP:20260421T054643Z
DTSTART:20230721T180000Z
DTEND:20230721T180000Z
SUMMARY:JAN DELAY | Dates | 21.07.2023 (DE) Rottweil\, Kraftwerk
DESCRIPTION:For tickets and more Jan Delay-dates check https://www.jan-delay.de/dates/
LOCATION:Kraftwerk\, Rottweil\, Germany
END:VEVENT
END:VCALENDAR
