BEGIN:VCALENDAR
VERSION:2.0
PRODID:-//Jan Delay//NONSGML Jan Delay//EN
METHOD:PUBLISH
BEGIN:VEVENT
UID:20260421T054740Z-1211044587-www.jan-delay.de
URL:https://www.jan-delay.de/dates/jan-delay-dates-25082023-ch-spiez-se-8--137-.html
DTSTAMP:20260421T054740Z
DTSTART:20230825T180000Z
DTEND:20230825T180000Z
SUMMARY:JAN DELAY | Dates | 25.08.2023 (CH) Spiez\, Seaside Festival
DESCRIPTION:For tickets and more Jan Delay-dates check https://www.jan-delay.de/dates/
LOCATION:Seaside Festival\, Spiez\, Switzerland
END:VEVENT
END:VCALENDAR
