BEGIN:VCALENDAR
VERSION:2.0
PRODID:-//Jan Delay//NONSGML Jan Delay//EN
METHOD:PUBLISH
BEGIN:VEVENT
UID:20260421T054910Z-962130300-www.jan-delay.de
URL:https://www.jan-delay.de/dates/jan-delay-dates-25062023-de-mannheim-8--135-.html
DTSTAMP:20260421T054910Z
DTSTART:20230625T180000Z
DTEND:20230625T180000Z
SUMMARY:JAN DELAY | Dates | 25.06.2023 (DE) Mannheim\, Zelt Festival Rhein-Neckar
DESCRIPTION:For tickets and more Jan Delay-dates check https://www.jan-delay.de/dates/
LOCATION:Zelt Festival Rhein-Neckar\, Mannheim\, Germany
END:VEVENT
END:VCALENDAR
