BEGIN:VCALENDAR
VERSION:2.0
PRODID:-//Jan Delay//NONSGML Jan Delay//EN
METHOD:PUBLISH
BEGIN:VEVENT
UID:20260421T054751Z-1531857797-www.jan-delay.de
URL:https://www.jan-delay.de/dates/jan-delay-dates-3006--02072023-de-ko-8--134-.html
DTSTAMP:20260421T054751Z
DTSTART:20230630T180000Z
DTEND:20230702T180500Z
SUMMARY:JAN DELAY | Dates | 30.06 - 02.07.2023 (DE) Köln\, Summerjam @ Frühlinger See
DESCRIPTION:For tickets and more Jan Delay-dates check https://www.jan-delay.de/dates/
LOCATION:Summerjam @ Frühlinger See\, Köln\, Germany
END:VEVENT
END:VCALENDAR
