BEGIN:VCALENDAR
VERSION:2.0
PRODID:-//Jan Delay//NONSGML Jan Delay//EN
METHOD:PUBLISH
BEGIN:VEVENT
UID:20260421T054756Z-1042617650-www.jan-delay.de
URL:https://www.jan-delay.de/dates/jan-delay-dates-10062023-de-kitzinge-8--133-.html
DTSTAMP:20260421T054756Z
DTSTART:20230610T180000Z
DTEND:20230610T180000Z
SUMMARY:JAN DELAY | Dates | 10.06.2023 (DE) Kitzingen\, Am Stadtbalkon
DESCRIPTION:For tickets and more Jan Delay-dates check https://www.jan-delay.de/dates/
LOCATION:Am Stadtbalkon\, Kitzingen\, Germany
END:VEVENT
END:VCALENDAR
