BEGIN:VCALENDAR
VERSION:2.0
PRODID:-//Jan Delay//NONSGML Jan Delay//EN
METHOD:PUBLISH
BEGIN:VEVENT
UID:20260418T105430Z-1612608984-www.jan-delay.de
URL:https://www.jan-delay.de/dates/jan-delay-dates-26062023-de-muenchen-8--132-.html
DTSTAMP:20260418T105430Z
DTSTART:20230626T180000Z
DTEND:20230626T180000Z
SUMMARY:JAN DELAY | Dates | 26.06.2023 (DE) München\, Tollwood
DESCRIPTION:For tickets and more Jan Delay-dates check https://www.jan-delay.de/dates/
LOCATION:Tollwood\, München\, Germany
END:VEVENT
END:VCALENDAR
