BEGIN:VCALENDAR
VERSION:2.0
PRODID:-//Jan Delay//NONSGML Jan Delay//EN
METHOD:PUBLISH
BEGIN:VEVENT
UID:20260421T054756Z-1001030547-www.jan-delay.de
URL:https://www.jan-delay.de/dates/jan-delay-dates-07072023-de-eckernfo-8--131-.html
DTSTAMP:20260421T054756Z
DTSTART:20230707T180000Z
DTEND:20230707T180000Z
SUMMARY:JAN DELAY | Dates | 07.07.2023 (DE) Eckernförde\, Strand Open Air
DESCRIPTION:For tickets and more Jan Delay-dates check https://www.jan-delay.de/dates/
LOCATION:Strand Open Air\, Eckernförde\, Germany
END:VEVENT
END:VCALENDAR
