BEGIN:VCALENDAR
VERSION:2.0
PRODID:-//Jan Delay//NONSGML Jan Delay//EN
METHOD:PUBLISH
BEGIN:VEVENT
UID:20260421T045234Z-702589355-www.jan-delay.de
URL:https://www.jan-delay.de/dates/jan-delay-dates-24062023-de-stuttgar-8--130-.html
DTSTAMP:20260421T045234Z
DTSTART:20230624T180000Z
DTEND:20230624T180000Z
SUMMARY:JAN DELAY | Dates | 24.06.2023 (DE) Stuttgart\, Kessel Festival
DESCRIPTION:For tickets and more Jan Delay-dates check https://www.jan-delay.de/dates/
LOCATION:Kessel Festival\, Stuttgart\, Germany
END:VEVENT
END:VCALENDAR
