BEGIN:VCALENDAR
VERSION:2.0
PRODID:-//Jan Delay//NONSGML Jan Delay//EN
METHOD:PUBLISH
BEGIN:VEVENT
UID:20260420T102830Z-26505458-www.jan-delay.de
URL:https://www.jan-delay.de/dates/jan-delay-dates-30072022-de-jena-kul-8--126-.html
DTSTAMP:20260420T102830Z
DTSTART:20220730T200000Z
DTEND:20220730T200000Z
SUMMARY:JAN DELAY | Dates | 30.07.2022 (DE) Jena\, Kulturarena Jena\, Theatervorplatz
DESCRIPTION:For tickets and more Jan Delay-dates check https://www.jan-delay.de/dates/
LOCATION:Kulturarena Jena\, Theatervorplatz\, Jena\, Germany
END:VEVENT
END:VCALENDAR
