BEGIN:VCALENDAR
VERSION:2.0
PRODID:-//Jan Delay//NONSGML Jan Delay//EN
METHOD:PUBLISH
BEGIN:VEVENT
UID:20260421T054619Z-736484776-www.jan-delay.de
URL:https://www.jan-delay.de/dates/jan-delay-dates-27082022-de-luebeck--8--125-.html
DTSTAMP:20260421T054619Z
DTSTART:20220827T180000Z
DTEND:20220827T180000Z
SUMMARY:JAN DELAY | Dates | 27.08.2022 (DE) Lübeck\, Kulturwerft Gollan
DESCRIPTION:For tickets and more Jan Delay-dates check https://www.jan-delay.de/dates/
LOCATION:Kulturwerft Gollan\, Lübeck\, Germany
END:VEVENT
END:VCALENDAR
