BEGIN:VCALENDAR
VERSION:2.0
PRODID:-//Jan Delay//NONSGML Jan Delay//EN
METHOD:PUBLISH
BEGIN:VEVENT
UID:20260421T122908Z-251625446-www.jan-delay.de
URL:https://www.jan-delay.de/dates/jan-delay-dates-03--05062022-de-nuer-8--124-.html
DTSTAMP:20260421T122908Z
DTSTART:20220603T180000Z
DTEND:20220605T180500Z
SUMMARY:JAN DELAY | Dates | 03 - 05.06.2022 (DE) Nürnberg\, Rock im Park
DESCRIPTION:For tickets and more Jan Delay-dates check https://www.jan-delay.de/dates/
LOCATION:Rock im Park\, Nürnberg\, Germany
END:VEVENT
END:VCALENDAR
