BEGIN:VCALENDAR
VERSION:2.0
PRODID:-//Jan Delay//NONSGML Jan Delay//EN
METHOD:PUBLISH
BEGIN:VEVENT
UID:20260420T225627Z-423217602-www.jan-delay.de
URL:https://www.jan-delay.de/dates/jan-delay-dates-29072022-ch-biel-lak-8--122-.html
DTSTAMP:20260420T225627Z
DTSTART:20220729T180000Z
DTEND:20220729T180000Z
SUMMARY:JAN DELAY | Dates | 29.07.2022 (CH) Biel\, Lakelive Festival
DESCRIPTION:For tickets and more Jan Delay-dates check https://www.jan-delay.de/dates/
LOCATION:Lakelive Festival\, Biel\, Switzerland
END:VEVENT
END:VCALENDAR
