BEGIN:VCALENDAR
VERSION:2.0
PRODID:-//Jan Delay//NONSGML Jan Delay//EN
METHOD:PUBLISH
BEGIN:VEVENT
UID:20260421T212723Z-775676282-www.jan-delay.de
URL:https://www.jan-delay.de/dates/jan-delay-dates-20082022-de-koeln-pa-8--121-.html
DTSTAMP:20260421T212723Z
DTSTART:20220820T180000Z
DTEND:20220820T180000Z
SUMMARY:JAN DELAY | Dates | 20.08.2022 (DE) Köln\, Palladium (verlegt vom 26.03.)
DESCRIPTION:For tickets and more Jan Delay-dates check https://www.jan-delay.de/dates/
LOCATION:Palladium (verlegt vom 26.03.)\, Köln\, Germany
END:VEVENT
END:VCALENDAR
