BEGIN:VCALENDAR
VERSION:2.0
PRODID:-//Jan Delay//NONSGML Jan Delay//EN
METHOD:PUBLISH
BEGIN:VEVENT
UID:20260420T074323Z-1875784306-www.jan-delay.de
URL:https://www.jan-delay.de/dates/jan-delay-dates-19072022-de-stuttgar-8--117-.html
DTSTAMP:20260420T074323Z
DTSTART:20220719T180000Z
DTEND:20220719T180000Z
SUMMARY:JAN DELAY | Dates | 19.07.2022 (DE) Stuttgart\, SpardaWelt Freilichtbühne Killesberg (verlegt vom 09.03. MHP Arena Ludwigsburg)
DESCRIPTION:For tickets and more Jan Delay-dates check https://www.jan-delay.de/dates/
LOCATION:SpardaWelt Freilichtbühne Killesberg (verlegt vom 09.03. MHP Arena Ludwigsburg)\, Stuttgart\, Germany
END:VEVENT
END:VCALENDAR
