BEGIN:VCALENDAR
VERSION:2.0
PRODID:-//Jan Delay//NONSGML Jan Delay//EN
METHOD:PUBLISH
BEGIN:VEVENT
UID:20260421T212629Z-608951823-www.jan-delay.de
URL:https://www.jan-delay.de/dates/jan-delay-dates-20072022-de-erlangen-8--116-.html
DTSTAMP:20260421T212629Z
DTSTART:20220720T180000Z
DTEND:20220720T180000Z
SUMMARY:JAN DELAY | Dates | 20.07.2022 (DE) Erlangen\, Kulturinsel Wöhrmühle (verelgt vom 08.03. Heinrich-Lades-Halle)
DESCRIPTION:For tickets and more Jan Delay-dates check https://www.jan-delay.de/dates/
LOCATION:Kulturinsel Wöhrmühle (verelgt vom 08.03. Heinrich-Lades-Halle)\, Erlangen\, Germany
END:VEVENT
END:VCALENDAR
