BEGIN:VCALENDAR
VERSION:2.0
PRODID:-//Jan Delay//NONSGML Jan Delay//EN
METHOD:PUBLISH
BEGIN:VEVENT
UID:20260418T095611Z-1522138722-www.jan-delay.de
URL:https://www.jan-delay.de/dates/jan-delay-dates-04072022-ch-zuerich--8--111-.html
DTSTAMP:20260418T095611Z
DTSTART:20220704T180000Z
DTEND:20220704T180000Z
SUMMARY:JAN DELAY | Dates | 04.07.2022 (CH) Zürich\, Volkshaus (verlegt vom 11.03.)
DESCRIPTION:For tickets and more Jan Delay-dates check https://www.jan-delay.de/dates/
LOCATION:Volkshaus (verlegt vom 11.03.)\, Zürich\, Switzerland
END:VEVENT
END:VCALENDAR
