BEGIN:VCALENDAR
VERSION:2.0
PRODID:-//Jan Delay//NONSGML Jan Delay//EN
METHOD:PUBLISH
BEGIN:VEVENT
UID:20260418T040755Z-476228213-www.jan-delay.de
URL:https://www.jan-delay.de/dates/jan-delay-dates-01082022-de-berlin-c-8--109-.html
DTSTAMP:20260418T040755Z
DTSTART:20220801T180000Z
DTEND:20220801T180000Z
SUMMARY:JAN DELAY | Dates | 01.08.2022 (DE) Berlin\, Columbiahalle (verlegt vom 28.03.)
DESCRIPTION:For tickets and more Jan Delay-dates check https://www.jan-delay.de/dates/
LOCATION:Columbiahalle (verlegt vom 28.03.)\, Berlin\, Germany
END:VEVENT
END:VCALENDAR
