BEGIN:VCALENDAR
VERSION:2.0
PRODID:-//Jan Delay//NONSGML Jan Delay//EN
METHOD:PUBLISH
BEGIN:VEVENT
UID:20260421T212810Z-227339547-www.jan-delay.de
URL:https://www.jan-delay.de/dates/jan-delay-dates-28082022-de-lingen-o-8--108-.html
DTSTAMP:20260421T212810Z
DTSTART:20220828T180000Z
DTEND:20220828T180000Z
SUMMARY:JAN DELAY | Dates | 28.08.2022 (DE) Lingen\, OpenAir-Platz EmslandArena (verlegt vom 27.03.)
DESCRIPTION:For tickets and more Jan Delay-dates check https://www.jan-delay.de/dates/
LOCATION:OpenAir-Platz EmslandArena (verlegt vom 27.03.)\, Lingen\, Germany
END:VEVENT
END:VCALENDAR
