BEGIN:VCALENDAR
VERSION:2.0
PRODID:-//Jan Delay//NONSGML Jan Delay//EN
METHOD:PUBLISH
BEGIN:VEVENT
UID:20260423T223954Z-726053175-www.jan-delay.de
URL:https://www.jan-delay.de/dates/jan-delay-dates-15072022-de-vechta-s-8--106-.html
DTSTAMP:20260423T223954Z
DTSTART:20220715T180000Z
DTEND:20220715T180000Z
SUMMARY:JAN DELAY | Dates | 15.07.2022 (DE) Vechta\, Stoppelmarkt (Zusammenlegung mit 24.03. Aurich)
DESCRIPTION:For tickets and more Jan Delay-dates check https://www.jan-delay.de/dates/
LOCATION:Stoppelmarkt (Zusammenlegung mit 24.03. Aurich)\, Vechta\, Germany
END:VEVENT
END:VCALENDAR
