BEGIN:VCALENDAR
VERSION:2.0
PRODID:-//Jan Delay//NONSGML Jan Delay//EN
METHOD:PUBLISH
BEGIN:VEVENT
UID:20260419T233706Z-1257338782-www.jan-delay.de
URL:https://www.jan-delay.de/dates/jan-delay-dates-21072022-de-hamburg--8--105-.html
DTSTAMP:20260419T233706Z
DTSTART:20220721T180000Z
DTEND:20220721T180000Z
SUMMARY:JAN DELAY | Dates | 21.07.2022 (DE) Hamburg\, Volkspark (verlegt vom 22.03. Barclays Arena)
DESCRIPTION:For tickets and more Jan Delay-dates check https://www.jan-delay.de/dates/
LOCATION:Volkspark (verlegt vom 22.03. Barclays Arena)\, Hamburg\, Germany
END:VEVENT
END:VCALENDAR
