BEGIN:VCALENDAR
VERSION:2.0
PRODID:-//Jan Delay//NONSGML Jan Delay//EN
METHOD:PUBLISH
BEGIN:VEVENT
UID:20260421T062037Z-21118072-www.jan-delay.de
URL:https://www.jan-delay.de/dates/jan-delay-dates-25082022-de-bremen-p-8--100-.html
DTSTAMP:20260421T062037Z
DTSTART:20220825T180000Z
DTEND:20220825T180000Z
SUMMARY:JAN DELAY | Dates | 25.08.2022 (DE) Bremen\, Pier 2 (verlegt vom 16.03.)
DESCRIPTION:For tickets and more Jan Delay-dates check https://www.jan-delay.de/dates/
LOCATION:Pier 2 (verlegt vom 16.03.)\, Bremen\, Germany
END:VEVENT
END:VCALENDAR
